BEGIN:VCALENDAR
VERSION:2.0
PRODID:-//Suchtprävention Aargau - ECPv6.15.20//NONSGML v1.0//EN
CALSCALE:GREGORIAN
METHOD:PUBLISH
X-ORIGINAL-URL:https://suchtpraevention-aargau.ch
X-WR-CALDESC:Veranstaltungen im Suchtprävention Aargau
REFRESH-INTERVAL;VALUE=DURATION:PT1H
X-Robots-Tag:noindex
X-PUBLISHED-TTL:PT1H
BEGIN:VTIMEZONE
TZID:Europe/Helsinki
BEGIN:DAYLIGHT
TZOFFSETFROM:+0200
TZOFFSETTO:+0300
TZNAME:EEST
DTSTART:20240331T010000
END:DAYLIGHT
BEGIN:STANDARD
TZOFFSETFROM:+0300
TZOFFSETTO:+0200
TZNAME:EET
DTSTART:20241027T010000
END:STANDARD
BEGIN:DAYLIGHT
TZOFFSETFROM:+0200
TZOFFSETTO:+0300
TZNAME:EEST
DTSTART:20250330T010000
END:DAYLIGHT
BEGIN:STANDARD
TZOFFSETFROM:+0300
TZOFFSETTO:+0200
TZNAME:EET
DTSTART:20251026T010000
END:STANDARD
BEGIN:DAYLIGHT
TZOFFSETFROM:+0200
TZOFFSETTO:+0300
TZNAME:EEST
DTSTART:20260329T010000
END:DAYLIGHT
BEGIN:STANDARD
TZOFFSETFROM:+0300
TZOFFSETTO:+0200
TZNAME:EET
DTSTART:20261025T010000
END:STANDARD
BEGIN:DAYLIGHT
TZOFFSETFROM:+0200
TZOFFSETTO:+0300
TZNAME:EEST
DTSTART:20270328T010000
END:DAYLIGHT
BEGIN:STANDARD
TZOFFSETFROM:+0300
TZOFFSETTO:+0200
TZNAME:EET
DTSTART:20271031T010000
END:STANDARD
END:VTIMEZONE
BEGIN:VTIMEZONE
TZID:Europe/Berlin
BEGIN:DAYLIGHT
TZOFFSETFROM:+0100
TZOFFSETTO:+0200
TZNAME:CEST
DTSTART:20250330T010000
END:DAYLIGHT
BEGIN:STANDARD
TZOFFSETFROM:+0200
TZOFFSETTO:+0100
TZNAME:CET
DTSTART:20251026T010000
END:STANDARD
BEGIN:DAYLIGHT
TZOFFSETFROM:+0100
TZOFFSETTO:+0200
TZNAME:CEST
DTSTART:20260329T010000
END:DAYLIGHT
BEGIN:STANDARD
TZOFFSETFROM:+0200
TZOFFSETTO:+0100
TZNAME:CET
DTSTART:20261025T010000
END:STANDARD
BEGIN:DAYLIGHT
TZOFFSETFROM:+0100
TZOFFSETTO:+0200
TZNAME:CEST
DTSTART:20270328T010000
END:DAYLIGHT
BEGIN:STANDARD
TZOFFSETFROM:+0200
TZOFFSETTO:+0100
TZNAME:CET
DTSTART:20271031T010000
END:STANDARD
END:VTIMEZONE
BEGIN:VEVENT
DTSTART;TZID=Europe/Helsinki:20260402T120000
DTEND;TZID=Europe/Helsinki:20260402T133000
DTSTAMP:20260421T144723
CREATED:20251124T130304Z
LAST-MODIFIED:20251124T130304Z
UID:10001154-1775131200-1775136600@suchtpraevention-aargau.ch
SUMMARY:Online-Workshop – Das Glück steht auf dem Spiel
DESCRIPTION:Eine Weiterbildung für Fachpersonen zum Thema Glücksspielsucht \nWeitere Informationen und die Anmeldemöglichkeit finden Sie auf unserer Website. Bei Fragen melden Sie sich bei Tim Rohr
URL:https://suchtpraevention-aargau.ch/event/online-workshop-das-glueck-steht-auf-dem-spiel/2026-04-02/
LOCATION:Zoom
END:VEVENT
BEGIN:VEVENT
DTSTART;TZID=Europe/Helsinki:20260401T140000
DTEND;TZID=Europe/Helsinki:20260401T160000
DTSTAMP:20260421T144723
CREATED:20260206T121654Z
LAST-MODIFIED:20260206T121654Z
UID:10001194-1775052000-1775059200@suchtpraevention-aargau.ch
SUMMARY:Baden – Weiterbildung Glücksspiel
DESCRIPTION:Im Auftrag des Casino Baden führen wir eine interne Weiterbildung durch. \nHaben Sie Fragen zu dieser Veranstaltung melden Sie sich bei Tim Rohr.
URL:https://suchtpraevention-aargau.ch/event/baden-weiterbildung-gluecksspiel-2/
LOCATION:Baden
END:VEVENT
BEGIN:VEVENT
DTSTART;TZID=Europe/Helsinki:20260401T140000
DTEND;TZID=Europe/Helsinki:20260401T160000
DTSTAMP:20260421T144723
CREATED:20260206T115949Z
LAST-MODIFIED:20260206T120104Z
UID:10001193-1775052000-1775059200@suchtpraevention-aargau.ch
SUMMARY:Baden – Weiterbildung Glücksspiel
DESCRIPTION:Im Auftrag des Casino Baden führen wir eine interne Weiterbildung durch. \nHaben Sie Fragen zu dieser Veranstaltung melden Sie sich bei Tim Rohr.
URL:https://suchtpraevention-aargau.ch/event/baden-weiterbildung-gluecksspiel/
LOCATION:Baden
END:VEVENT
BEGIN:VEVENT
DTSTART;TZID=Europe/Helsinki:20260326T201500
DTEND;TZID=Europe/Helsinki:20260326T221500
DTSTAMP:20260421T144723
CREATED:20251001T134104Z
LAST-MODIFIED:20251001T134104Z
UID:10001136-1774556100-1774563300@suchtpraevention-aargau.ch
SUMMARY:Online-Workshop - ElternAlltag für Eltern aus Spielzeugfreien Kindergärten
DESCRIPTION:Online-Workshop 1: 26.02.2026\nGleichwürdige Beziehung – Elternsein auf Augenhöhe\nWir stellen die Beziehung von Eltern und Kind ins Zentrum. Sie setzen sich im Workshop mit Gleichwürdigkeit und Elterlicher Führung auseinander. Wir zeigen verschiedene Möglichkeiten\, wie Sie als Mutter oder Vater den Alltag gestalten können. \nOnline-Workshop 2: 12.03.2026\nMuss ich alles 10x sagen? – Kinder zur Kooperation gewinnen\nIhr Kind kommt vom Kindergarten nach Hause\, Jacke und Schuhe werden achtlos auf den Boden geworfen. Sie rufen mehrere Male\, dass es die Sachen wegräumen soll – keine Reaktion. Wie gelingt es\, Kinder zur Kooperation zu gewinnen? Was ist entscheidend\, damit ich nicht alles 10x sagen muss? \nOnline-Workshop 3: 26.03.2026\nVom Machtkampf zur Verhandlung – Konflikte fair lösen\nJedes Familienmitglied hat Bedürfnisse und Wünsche. Konflikte gehören zum Familienalltag. Immer wiederkehrende Machtkämpfe rauben jedoch viel Energie und hinterlassen schlechte Gefühle. Wie können diese Machtkämpfe konstruktiv gelöst werden? Wie reagieren wir? Was lernen Kinder dabei? \nWeitere Informationen und die Anmeldemöglichkeit finden Sie auf unserer Website Spielzeugfrei. Bei Fragen melden Sie sich bei uns. \n 
URL:https://suchtpraevention-aargau.ch/event/online-workshop-elternalltag-fuer-eltern-aus-spielzeugfreien-kindergaerten-3/2026-03-26/
LOCATION:Zoom
CATEGORIES:Eltern Zyklus 1
END:VEVENT
BEGIN:VEVENT
DTSTART;TZID=Europe/Helsinki:20260326T100000
DTEND;TZID=Europe/Helsinki:20260326T120000
DTSTAMP:20260421T144723
CREATED:20260206T115830Z
LAST-MODIFIED:20260206T115840Z
UID:10001192-1774519200-1774526400@suchtpraevention-aargau.ch
SUMMARY:Baden – Eltern up to d@te
DESCRIPTION:Im Auftrag der Schule Baden Meierhof führen wir die Veranstaltung Eltern up to d@te durch. \nHaben Sie Fragen zu dieser Veranstaltung melden Sie sich bei Tim Rohr.
URL:https://suchtpraevention-aargau.ch/event/baden-eltern-up-to-dte-3/
LOCATION:Baden
CATEGORIES:Eltern
END:VEVENT
BEGIN:VEVENT
DTSTART;TZID=Europe/Helsinki:20260324T201500
DTEND;TZID=Europe/Helsinki:20260324T221500
DTSTAMP:20260421T144723
CREATED:20260206T123109Z
LAST-MODIFIED:20260206T123156Z
UID:10001198-1774383300-1774390500@suchtpraevention-aargau.ch
SUMMARY:Online-Workshop - ElternAlltag mit kleinen Kindern
DESCRIPTION:Haben Sie Fragen zu dieser Veranstaltung melden Sie sich bei Ramona Patt \n 
URL:https://suchtpraevention-aargau.ch/event/online-workshop-elternalltag-mit-kleinen-kindern-2/2026-03-24/
LOCATION:Zoom
CATEGORIES:Eltern von Kindern bis 4 Jahre
END:VEVENT
BEGIN:VEVENT
DTSTART;TZID=Europe/Helsinki:20260324T190000
DTEND;TZID=Europe/Helsinki:20260324T210000
DTSTAMP:20260421T144723
CREATED:20260305T093352Z
LAST-MODIFIED:20260305T093503Z
UID:10001216-1774378800-1774386000@suchtpraevention-aargau.ch
SUMMARY:Hägglingen - ElternAlltag mit kleinen Kindern
DESCRIPTION:Haben Sie Fragen zu dieser Veranstaltung melden Sie sich bei Ramona Patt. \n 
URL:https://suchtpraevention-aargau.ch/event/haegglingen-elternalltag-mit-kleinen-kindern/2026-03-24/
LOCATION:Zoom
CATEGORIES:Eltern von Kindern bis 4 Jahre
END:VEVENT
BEGIN:VEVENT
DTSTART;TZID=Europe/Helsinki:20260321T100000
DTEND;TZID=Europe/Helsinki:20260321T120000
DTSTAMP:20260421T144723
CREATED:20260206T115648Z
LAST-MODIFIED:20260206T115648Z
UID:10001190-1774087200-1774094400@suchtpraevention-aargau.ch
SUMMARY:Baden – Eltern up to d@te
DESCRIPTION:Im Auftrag der Schule Baden Rütihof führen wir die Veranstaltung Eltern up to d@te durch.
URL:https://suchtpraevention-aargau.ch/event/baden-eltern-up-to-dte-2/
LOCATION:Baden
CATEGORIES:Eltern
END:VEVENT
BEGIN:VEVENT
DTSTART;TZID=Europe/Helsinki:20260320T133000
DTEND;TZID=Europe/Helsinki:20260320T163000
DTSTAMP:20260421T144723
CREATED:20250908T113845Z
LAST-MODIFIED:20250908T114555Z
UID:10001103-1774013400-1774024200@suchtpraevention-aargau.ch
SUMMARY:Aarburg  – Hinschauen und Handeln
DESCRIPTION:Gebuchte Veranstaltungen zum Thema Hinschauen und Handeln. \nHaben Sie Fragen zu dieser Veranstaltung melden Sie sich bei Maya Zettler
URL:https://suchtpraevention-aargau.ch/event/aarburg-hinschauen-und-handeln-2026-2/
LOCATION:Aarburg
CATEGORIES:Lehrer-/innen
END:VEVENT
BEGIN:VEVENT
DTSTART;TZID=Europe/Helsinki:20260319T190000
DTEND;TZID=Europe/Helsinki:20260319T203000
DTSTAMP:20260421T144723
CREATED:20260206T115503Z
LAST-MODIFIED:20260206T115503Z
UID:10001188-1773946800-1773952200@suchtpraevention-aargau.ch
SUMMARY:Zofingen – Eltern up to d@te
DESCRIPTION:Im Auftrag der Schule Zofingen führen wir die Veranstaltung Eltern up to d@te durch. \nHaben Sie Fragen zu dieser Veranstaltung melden Sie sich bei Tim Rohr.
URL:https://suchtpraevention-aargau.ch/event/zofingen-eltern-up-to-dte-2/
LOCATION:Zofingen\, Zofingen\, 4800
CATEGORIES:Eltern
END:VEVENT
BEGIN:VEVENT
DTSTART;TZID=Europe/Helsinki:20260319T160000
DTEND;TZID=Europe/Helsinki:20260319T161500
DTSTAMP:20260421T144723
CREATED:20260206T111525Z
LAST-MODIFIED:20260206T112844Z
UID:10001167-1773936000-1773936900@suchtpraevention-aargau.ch
SUMMARY:Baden - ElternAlltag fern der Heimat
DESCRIPTION:Donnerstag\, 26. Februar 2026\, 14.00 bis 16:15 Uhr\nDonnerstag\, 05. März 2026\, 14.00 bis 16:15 Uhr\nDonnerstag\, 12. März 2026\, 14.00 bis 16:15 Uhr\nDonnerstag 19.03.2026\, 14.00 bis 16:15 Uhr \nVeranstaltungsort\nFamilienzentrum Karussell\,\nHaselstrasse 6\, 5400 Baden statt. \nHaben Sie Fragen zu dieser Veranstaltung melden Sie sich bei Bettina Pelosi \n7014_Flyer_Elternkurs_Albanisch_Baden_2026_Broschüre
URL:https://suchtpraevention-aargau.ch/event/baden-elternalltag-fern-der-heimat/2026-03-19/
LOCATION:Baden
CATEGORIES:Eltern anderer Kulturen
END:VEVENT
BEGIN:VEVENT
DTSTART;TZID=Europe/Helsinki:20260319T100000
DTEND;TZID=Europe/Helsinki:20260319T123000
DTSTAMP:20260421T144723
CREATED:20260206T115543Z
LAST-MODIFIED:20260206T115543Z
UID:10001189-1773914400-1773923400@suchtpraevention-aargau.ch
SUMMARY:Merenschwand – Eltern up to d@te
DESCRIPTION:Im Auftrag der Schule Zofingen führen wir die Veranstaltung Eltern up to d@te durch. \nHaben Sie Fragen zu dieser Veranstaltung melden Sie sich bei Tim Rohr.
URL:https://suchtpraevention-aargau.ch/event/merenschwand-eltern-up-to-dte/
LOCATION:Merenschwand
CATEGORIES:Eltern
END:VEVENT
BEGIN:VEVENT
DTSTART;TZID=Europe/Helsinki:20260318T133000
DTEND;TZID=Europe/Helsinki:20260318T163000
DTSTAMP:20260421T144723
CREATED:20250908T113932Z
LAST-MODIFIED:20250908T114422Z
UID:10001104-1773840600-1773851400@suchtpraevention-aargau.ch
SUMMARY:Aarburg  – Hinschauen und Handeln
DESCRIPTION:Gebuchte Veranstaltungen zum Thema Hinschauen und Handeln. \nHaben Sie Fragen zu dieser Veranstaltung melden Sie sich bei Maya Zettler
URL:https://suchtpraevention-aargau.ch/event/aarburg-hinschauen-und-handeln-2026-1/
LOCATION:Aarburg
CATEGORIES:Lehrer-/innen
END:VEVENT
BEGIN:VEVENT
DTSTART;TZID=Europe/Helsinki:20260317T160000
DTEND;TZID=Europe/Helsinki:20260317T161500
DTSTAMP:20260421T144723
CREATED:20260206T112449Z
LAST-MODIFIED:20260206T113053Z
UID:10001171-1773763200-1773764100@suchtpraevention-aargau.ch
SUMMARY:Frick - ElternAlltag fern der Heimat
DESCRIPTION:Dienstag\, 24. Februar 2026\, 14.00 bis 16:15 Uhr\nDienstag\, 03. März 2026\, 14.00 bis 16:15 Uhr\nDienstag\, 10. März 2026\, 14.00 bis 16:15 Uhr\nDiesntag\, 17.03.2026\, 14.00 bis 16:15 Uhr \nVeranstaltungsort:\nKantonale Unterkunft (KU) Frick\, Werkhof A3\, 5070 Frick \nHaben Sie Fragen zu dieser Veranstaltung melden Sie sich bei Bettina Pelosi \n7014_Flyer_Elternkurs_Ukrainisch_Frick_2026_Broschüre 7014_Flyer_Elternkurs_Russisch_Frick_2026_Broschüre
URL:https://suchtpraevention-aargau.ch/event/frick-elternalltag-fern-der-heimat/2026-03-17/
CATEGORIES:Eltern anderer Kulturen
END:VEVENT
BEGIN:VEVENT
DTSTART;TZID=Europe/Helsinki:20260312T190000
DTEND;TZID=Europe/Helsinki:20260312T203000
DTSTAMP:20260421T144723
CREATED:20260206T115403Z
LAST-MODIFIED:20260206T115403Z
UID:10001187-1773342000-1773347400@suchtpraevention-aargau.ch
SUMMARY:Baden – Eltern up to d@te
DESCRIPTION:Im Auftrag der Schule Baden Meierhof führen wir die Veranstaltung Eltern up to d@te durch. \nHaben Sie Fragen zu dieser Veranstaltung melden Sie sich bei Tim Rohr.
URL:https://suchtpraevention-aargau.ch/event/baden-eltern-up-to-dte/
LOCATION:Baden
CATEGORIES:Eltern
END:VEVENT
BEGIN:VEVENT
DTSTART;TZID=Europe/Helsinki:20260312T090000
DTEND;TZID=Europe/Helsinki:20260312T110000
DTSTAMP:20260421T144723
CREATED:20251208T092349Z
LAST-MODIFIED:20251208T092414Z
UID:10001160-1773306000-1773313200@suchtpraevention-aargau.ch
SUMMARY:Suhr - ElternAlltag fern der Heimat
DESCRIPTION:Donnerstag\, 26. Februar 2026\, 09.00 Uhr bis 11.00 Uhr\nDonnerstag\, 05. März 2026\, 09.00 Uhr bis 11.00 Uhr\nDonnerstag\, 12. März 2026\, 09.00 Uhr bis 11.00 Uhr \nDie Veranstaltungen finden im Suhrrli Familienzentrum\, Schützenweg 8\, 5034 Suhr statt. \nHaben Sie Fragen zu dieser Veranstaltung melden Sie sich bei Bettina Pelosi \n 
URL:https://suchtpraevention-aargau.ch/event/suhr-elternalltag-fern-der-heimat-3/2026-03-12/
LOCATION:Suhr\, Suhr\, 5034
CATEGORIES:Eltern anderer Kulturen
END:VEVENT
BEGIN:VEVENT
DTSTART;TZID=Europe/Helsinki:20260311T133000
DTEND;TZID=Europe/Helsinki:20260311T170000
DTSTAMP:20260421T144723
CREATED:20250908T114942Z
LAST-MODIFIED:20250908T114956Z
UID:10001106-1773235800-1773248400@suchtpraevention-aargau.ch
SUMMARY:Wettingen – Hinschauen und Handeln
DESCRIPTION:Gebuchte Veranstaltungen der Schule Margeläcker Wettingen zum Thema Hinschauen und Handeln. \nHaben Sie Fragen zu dieser Veranstaltung melden Sie sich bei Maya Zettler
URL:https://suchtpraevention-aargau.ch/event/wettingen-hinschauen-und-handeln-2026-2/
LOCATION:Wettingen\, Wettingen\, 5430
CATEGORIES:Lehrer-/innen
END:VEVENT
BEGIN:VEVENT
DTSTART;VALUE=DATE:20260311
DTEND;VALUE=DATE:20260312
DTSTAMP:20260421T144723
CREATED:20260227T075142Z
LAST-MODIFIED:20260227T075338Z
UID:10001199-1773187200-1773273599@suchtpraevention-aargau.ch
SUMMARY:Oftringen - Workshop zu gewaltfreier Kommunikation
DESCRIPTION:Schule Oftringen \n11. März 2026 \nHaben Sie Fragen zu dieser Veranstaltung melden Sie sich bei Ramona Patt
URL:https://suchtpraevention-aargau.ch/event/oftringen-workshop-zu-gewaltfreier-kommunikation/
LOCATION:Oftringen
END:VEVENT
BEGIN:VEVENT
DTSTART;TZID=Europe/Helsinki:20260305T000000
DTEND;TZID=Europe/Helsinki:20260305T000000
DTSTAMP:20260421T144723
CREATED:20260206T122602Z
LAST-MODIFIED:20260206T122602Z
UID:10001195-1772668800-1772668800@suchtpraevention-aargau.ch
SUMMARY:Niederrohrdorf - No Risk No Fun
DESCRIPTION:Gebuchte Veranstaltung der MOJURO \nHaben Sie Fragen zu dieser Veranstaltung melden Sie sich bei Ramona Patt
URL:https://suchtpraevention-aargau.ch/event/niederrohrdorf-no-risk-no-fun/
LOCATION:Niederrohrdorf
CATEGORIES:Eltern
END:VEVENT
BEGIN:VEVENT
DTSTART;TZID=Europe/Berlin:20260304T193000
DTEND;TZID=Europe/Berlin:20260304T213000
DTSTAMP:20260421T144723
CREATED:20250917T120140Z
LAST-MODIFIED:20250917T120140Z
UID:10001112-1772652600-1772659800@suchtpraevention-aargau.ch
SUMMARY:KSB Baden Papakurs 2026
DESCRIPTION:Die Geburt eines Kindes verändert vieles. Der Übergang zur Vaterschaft ist eines der wichtigsten Lebensereignisse und bringt sehr viel Neues mit sich. Ist es wirklich so\, wie ich mir das vorgestellt habe? Und was ist mit meinen Bedürfnissen? \nWeitere Information und Anmeldemöglichkeit zur Veranstaltung. Bei Fragen zu dieser Veranstaltung melden Sie sich bei Tim Rohr \n 
URL:https://suchtpraevention-aargau.ch/event/ksb-baden-papakurs-2026/2026-03-04/
LOCATION:Baden
CATEGORIES:Väter
END:VEVENT
BEGIN:VEVENT
DTSTART;TZID=Europe/Berlin:20260228T100000
DTEND;TZID=Europe/Berlin:20260228T120000
DTSTAMP:20260421T144723
CREATED:20260121T131750Z
LAST-MODIFIED:20260121T134107Z
UID:10001163-1772272800-1772280000@suchtpraevention-aargau.ch
SUMMARY:E-Sports Event im WERKK – Referat zu Gambling und Gamification
DESCRIPTION:Kurzreferat: Gaming\, Gambling und Gamification\nDigitale Spiele\, Glücksspiele und spielerische Mechanismen sind fester Bestandteil der Lebenswelt von Kindern und Jugendlichen. Doch wie funktionieren Gaming\, Gambling und Gamification genau – und welchen Einfluss haben sie auf Verhalten\, Motivation und Entscheidungsprozesse? \nIn diesem Kurzreferat vermitteln Fachpersonen fundiertes Wissen zu den zugrunde liegenden Mechanismen. Sie zeigen auf\, wie Belohnungssysteme\, Zufallselemente und spielerische Anreize wirken und weshalb sie besonders anziehend sein können. Zudem werden Chancen und Risiken beleuchtet und ein Einblick in aktuelle Entwicklungen gegeben. \nZiel des Referats ist es\, Eltern für die Themen Gaming und Gambling zu sensibilisieren und ihre Medienkompetenz zu staerken. Sie erhalten praxisnahe Impulse\, um Kinder und Jugendliche im Umgang mit digitalen Spielen und Glücksspielmechanismen kompetent zu begleiten und zu unterstützen. \nZielgruppe: Eltern / Erziehungsberechtigte (Teilnahme mit oder ohne Jugendliche möglich)  \nAnmeldeschluss: 24. Februar 2026 \nBitte aktivieren Sie JavaScript in Ihrem Browser\, um dieses Formular fertigzustellen.		\n			Personen Anzahl Name\n			\n		\n		Name *VornameNachnameAnzahl PersonenE-Mail *Absenden
URL:https://suchtpraevention-aargau.ch/event/e-sports-event-im-werkk-referat-zu-gambling-und-gamification/
LOCATION:Werkk Baden\, Schmiedestrasse 1\, 5400 Baden\, Schmiedestrasse 1\, Baden\, 5400
END:VEVENT
BEGIN:VEVENT
DTSTART;TZID=Europe/Berlin:20260225T193000
DTEND;TZID=Europe/Berlin:20260225T213000
DTSTAMP:20260421T144723
CREATED:20250917T120415Z
LAST-MODIFIED:20250917T120415Z
UID:10001115-1772047800-1772055000@suchtpraevention-aargau.ch
SUMMARY:KSA Aarau Papakurs 2026
DESCRIPTION:Die Geburt eines Kindes verändert vieles. Der Übergang zur Vaterschaft ist eines der wichtigsten Lebensereignisse und bringt sehr viel Neues mit sich. Ist es wirklich so\, wie ich mir das vorgestellt habe? Und was ist mit meinen Bedürfnissen? \nWeitere Information und Anmeldemöglichkeit zur Veranstaltung. Bei Fragen zu dieser Veranstaltung melden Sie sich bei Tim Rohr
URL:https://suchtpraevention-aargau.ch/event/ksa-aarau-papakurs-2026/2026-02-25/
LOCATION:Aarau
CATEGORIES:Väter
END:VEVENT
BEGIN:VEVENT
DTSTART;TZID=Europe/Helsinki:20260225T100000
DTEND;TZID=Europe/Helsinki:20260225T120000
DTSTAMP:20260421T144723
CREATED:20260206T115302Z
LAST-MODIFIED:20260206T115302Z
UID:10001186-1772013600-1772020800@suchtpraevention-aargau.ch
SUMMARY:Küttigen – Eltern up to d@te
DESCRIPTION:Im Auftrag der Schule Küttigen führen wir die Veranstaltung Eltern up to d@te durch. \nHaben Sie Fragen zu dieser Veranstaltung melden Sie sich bei Tim Rohr.
URL:https://suchtpraevention-aargau.ch/event/kuettigen-eltern-up-to-dte/
LOCATION:Küttigen
CATEGORIES:Eltern
END:VEVENT
BEGIN:VEVENT
DTSTART;TZID=Europe/Helsinki:20260217T100000
DTEND;TZID=Europe/Helsinki:20260217T120000
DTSTAMP:20260421T144723
CREATED:20260206T115133Z
LAST-MODIFIED:20260206T115145Z
UID:10001185-1771322400-1771329600@suchtpraevention-aargau.ch
SUMMARY:Gontenschwil – Eltern up to d@te
DESCRIPTION:Im Auftrag der Schule Gontenschwil führen wir die Veranstaltung Eltern up to d@te durch. \nHaben Sie Fragen zu dieser Veranstaltung melden Sie sich bei Tim Rohr.
URL:https://suchtpraevention-aargau.ch/event/gontenschwil-eltern-up-to-dte/
LOCATION:Gontenschwil
CATEGORIES:Eltern
END:VEVENT
BEGIN:VEVENT
DTSTART;TZID=Europe/Helsinki:20260129T201500
DTEND;TZID=Europe/Helsinki:20260129T221500
DTSTAMP:20260421T144723
CREATED:20251001T133921Z
LAST-MODIFIED:20251001T133921Z
UID:10001133-1769717700-1769724900@suchtpraevention-aargau.ch
SUMMARY:Online-Workshop - ElternAlltag für Eltern aus Spielzeugfreien Kindergärten
DESCRIPTION:Online-Workshop 1: 15.01.2026\nGleichwürdige Beziehung – Elternsein auf Augenhöhe\nWir stellen die Beziehung von Eltern und Kind ins Zentrum. Sie setzen sich im Workshop mit Gleichwürdigkeit und Elterlicher Führung auseinander. Wir zeigen verschiedene Möglichkeiten\, wie Sie als Mutter oder Vater den Alltag gestalten können. \nOnline-Workshop 2: 22.01.2026\nMuss ich alles 10x sagen? – Kinder zur Kooperation gewinnen\nIhr Kind kommt vom Kindergarten nach Hause\, Jacke und Schuhe werden achtlos auf den Boden geworfen. Sie rufen mehrere Male\, dass es die Sachen wegräumen soll – keine Reaktion. Wie gelingt es\, Kinder zur Kooperation zu gewinnen? Was ist entscheidend\, damit ich nicht alles 10x sagen muss? \nOnline-Workshop 3: 29.01.2026\nVom Machtkampf zur Verhandlung – Konflikte fair lösen\nJedes Familienmitglied hat Bedürfnisse und Wünsche. Konflikte gehören zum Familienalltag. Immer wiederkehrende Machtkämpfe rauben jedoch viel Energie und hinterlassen schlechte Gefühle. Wie können diese Machtkämpfe konstruktiv gelöst werden? Wie reagieren wir? Was lernen Kinder dabei? \nWeitere Informationen und die Anmeldemöglichkeit finden Sie auf unserer Website Spielzeugfrei. Bei Fragen melden Sie sich bei uns. \n 
URL:https://suchtpraevention-aargau.ch/event/online-workshop-elternalltag-fuer-eltern-aus-spielzeugfreien-kindergaerten-2/2026-01-29/
LOCATION:Zoom
CATEGORIES:Eltern Zyklus 1
END:VEVENT
BEGIN:VEVENT
DTSTART;TZID=Europe/Helsinki:20260128T201500
DTEND;TZID=Europe/Helsinki:20260128T221500
DTSTAMP:20260421T144723
CREATED:20251001T133658Z
LAST-MODIFIED:20251208T093419Z
UID:10001130-1769631300-1769638500@suchtpraevention-aargau.ch
SUMMARY:AUSGEBUCHT - ElternAlltag für Eltern aus Spielzeugfreien Kindergärten
DESCRIPTION:Online-Workshop 1: 14.01.2026\nGleichwürdige Beziehung – Elternsein auf Augenhöhe\nWir stellen die Beziehung von Eltern und Kind ins Zentrum. Sie setzen sich im Workshop mit Gleichwürdigkeit und Elterlicher Führung auseinander. Wir zeigen verschiedene Möglichkeiten\, wie Sie als Mutter oder Vater den Alltag gestalten können. \nOnline-Workshop 2: 21.01.2026\nMuss ich alles 10x sagen? – Kinder zur Kooperation gewinnen\nIhr Kind kommt vom Kindergarten nach Hause\, Jacke und Schuhe werden achtlos auf den Boden geworfen. Sie rufen mehrere Male\, dass es die Sachen wegräumen soll – keine Reaktion. Wie gelingt es\, Kinder zur Kooperation zu gewinnen? Was ist entscheidend\, damit ich nicht alles 10x sagen muss? \nOnline-Workshop 3: 28.01.2026\nVom Machtkampf zur Verhandlung – Konflikte fair lösen\nJedes Familienmitglied hat Bedürfnisse und Wünsche. Konflikte gehören zum Familienalltag. Immer wiederkehrende Machtkämpfe rauben jedoch viel Energie und hinterlassen schlechte Gefühle. Wie können diese Machtkämpfe konstruktiv gelöst werden? Wie reagieren wir? Was lernen Kinder dabei? \nWeitere Informationen und die Anmeldemöglichkeit finden Sie auf unserer Website Spielzeugfrei. Bei Fragen melden Sie sich bei uns. \n 
URL:https://suchtpraevention-aargau.ch/event/online-workshop-elternalltag-fuer-eltern-aus-spielzeugfreien-kindergaerten/2026-01-28/
LOCATION:Zoom
CATEGORIES:Eltern Zyklus 1
END:VEVENT
BEGIN:VEVENT
DTSTART;TZID=Europe/Helsinki:20260127T153000
DTEND;TZID=Europe/Helsinki:20260127T173000
DTSTAMP:20260421T144723
CREATED:20250908T114746Z
LAST-MODIFIED:20250908T114800Z
UID:10001105-1769527800-1769535000@suchtpraevention-aargau.ch
SUMMARY:Wettingen – Hinschauen und Handeln
DESCRIPTION:Gebuchte Veranstaltungen der Schule Margeläcker Wettingen zum Thema Hinschauen und Handeln. \nHaben Sie Fragen zu dieser Veranstaltung melden Sie sich bei Maya Zettler
URL:https://suchtpraevention-aargau.ch/event/wettingen-hinschauen-und-handeln-2026-1/
LOCATION:Wettingen\, Wettingen\, 5430
CATEGORIES:Lehrer-/innen
END:VEVENT
BEGIN:VEVENT
DTSTART;TZID=Europe/Helsinki:20260121T091500
DTEND;TZID=Europe/Helsinki:20260121T160000
DTSTAMP:20260421T144723
CREATED:20251210T131250Z
LAST-MODIFIED:20251210T131305Z
UID:10001162-1768986900-1769011200@suchtpraevention-aargau.ch
SUMMARY:Workshop zu gewaltfreier Kommunikation
DESCRIPTION:Gebuchte Veranstaltung der ZHAW zu gewaltfreier Kommunikation. \nHaben Sie Fragen zu dieser Veranstaltung melden Sie sich bei Nicole Häuptli oder Ramona Patt
URL:https://suchtpraevention-aargau.ch/event/zhaw-gewaltfreie-kommunikation-2026/2026-01-21/
END:VEVENT
BEGIN:VEVENT
DTSTART;VALUE=DATE:20251218
DTEND;VALUE=DATE:20251219
DTSTAMP:20260421T144723
CREATED:20250108T123200Z
LAST-MODIFIED:20251205T070919Z
UID:10001157-1766044800-1766077200@suchtpraevention-aargau.ch
SUMMARY:Podcast ElternAlltag: neue Folge
DESCRIPTION:Jeweils am zweiten Donnerstag im Monat veröffentlichen wir um 11 Uhr eine neue Folge des Podcasts ElternAlltag. Die Folgen sind jeweils auch auf Spotify\, Apple Podcasts oder weiteren Podcatchern zu finden. \n09.01.2025: ElternAlltag Podcast Episode 54\n13.02.2025: ElternAlltag Podcast Episode 55\n13.03.2025: ElternAlltag Podcast Episode 56\n10.04.2025: ElternAlltag Podcast Episode 57\n08.05.2025: ElternAlltag Podcast Episode 58\n12.06.2025: ElternAlltag Podcast Episode 59\n10.07.2025: ElternAlltag Podcast Episode 60\nAugust: Pause\n11.09.2025: ElternAlltag Podcast Episode 61\n09.10.2025: ElternAlltag Podcast Episode 62\n13.11.2025: ElternAlltag Podcast Episode 63\n18.12.2025: ElternAlltag Podcast Episode 64 \nHaben Sie Fragen melden Sie sich bei der Suchtprävention Aargau.
URL:https://suchtpraevention-aargau.ch/event/podcast-elternalltag-neue-folge-2/2025-12-18/
END:VEVENT
BEGIN:VEVENT
DTSTART;TZID=Europe/Helsinki:20251217T083000
DTEND;TZID=Europe/Helsinki:20251217T120000
DTSTAMP:20260421T144723
CREATED:20251020T134630Z
LAST-MODIFIED:20251020T134630Z
UID:10001144-1765960200-1765972800@suchtpraevention-aargau.ch
SUMMARY:Zofingen – Gesundheit\, Stress\, Sucht
DESCRIPTION:Geschlossene Veranstaltung für Müller Martini AG. \nHaben Sie Fragen zu dieser Veranstaltung melden Sie sich bei Tim Rohr
URL:https://suchtpraevention-aargau.ch/event/zofingen-gesundheit-stress-sucht-2025/
LOCATION:Zofingen\, Zofingen\, 4800
END:VEVENT
END:VCALENDAR